BEGIN:VCALENDAR
VERSION:2.0
PRODID:-//Vauß-Hof - ECPv6.15.20//NONSGML v1.0//EN
CALSCALE:GREGORIAN
METHOD:PUBLISH
X-WR-CALNAME:Vauß-Hof
X-ORIGINAL-URL:https://vausshof.de
X-WR-CALDESC:Veranstaltungen für Vauß-Hof
REFRESH-INTERVAL;VALUE=DURATION:PT1H
X-Robots-Tag:noindex
X-PUBLISHED-TTL:PT1H
BEGIN:VTIMEZONE
TZID:Europe/Berlin
BEGIN:DAYLIGHT
TZOFFSETFROM:+0100
TZOFFSETTO:+0200
TZNAME:CEST
DTSTART:20250330T010000
END:DAYLIGHT
BEGIN:STANDARD
TZOFFSETFROM:+0200
TZOFFSETTO:+0100
TZNAME:CET
DTSTART:20251026T010000
END:STANDARD
BEGIN:DAYLIGHT
TZOFFSETFROM:+0100
TZOFFSETTO:+0200
TZNAME:CEST
DTSTART:20260329T010000
END:DAYLIGHT
BEGIN:STANDARD
TZOFFSETFROM:+0200
TZOFFSETTO:+0100
TZNAME:CET
DTSTART:20261025T010000
END:STANDARD
BEGIN:DAYLIGHT
TZOFFSETFROM:+0100
TZOFFSETTO:+0200
TZNAME:CEST
DTSTART:20270328T010000
END:DAYLIGHT
BEGIN:STANDARD
TZOFFSETFROM:+0200
TZOFFSETTO:+0100
TZNAME:CET
DTSTART:20271031T010000
END:STANDARD
END:VTIMEZONE
BEGIN:VEVENT
DTSTART;TZID=Europe/Berlin:20260509T110000
DTEND;TZID=Europe/Berlin:20260509T150000
DTSTAMP:20260424T145446
CREATED:20220825T125616Z
LAST-MODIFIED:20260419T124445Z
UID:10000107-1778324400-1778338800@vausshof.de
SUMMARY:Pflanzentauschbörse
DESCRIPTION:Wir laden herzlich ein zur Pflanzentauschbörse! \nAm 9. Mai 2026 ab 11 Uhr an der Solawi-Halle\, Scharmeder Straße 84 in Salzkotten-Scharmede. Ihr dürft eure  Ableger\, Stecklinge & Co. mitbringen und weitergeben und/ oder tauschen. Das Mitbringen von Pflanzen ist kein Muss\, ihr dürft auch einfach vorbeischauen\, stöbern und mitnehmen\, was in euren Garten passt.  \nDabei könnt ihr mit anderen Pflanzen freund*innen ins Gespräch kommen und bestimmt das ein oder andere lernen. \n  \nWir freuen uns auf euch!
URL:https://vausshof.de/event/solawi-fuehrung/
LOCATION:Solidarische Landwirtschaft Vauß-Hof\, Scharmeder Straße 85\, Scharmede\, 33154\, Deutschland
CATEGORIES:Kooperationen,Solidarische Landwirtschaft
ATTACH;FMTTYPE=image/jpeg:https://vausshof.de/wp-content/uploads/2022/08/IMG_7437.jpg
GEO:51.7216890977;8.62809268061
X-APPLE-STRUCTURED-LOCATION;VALUE=URI;X-ADDRESS=Solidarische Landwirtschaft Vauß-Hof Scharmeder Straße 85 Scharmede 33154 Deutschland;X-APPLE-RADIUS=500;X-TITLE=Scharmeder Straße 85:geo:8.62809268061,51.7216890977
END:VEVENT
END:VCALENDAR