BEGIN:VCALENDAR
VERSION:2.0
PRODID:-//Vauß-Hof - ECPv6.15.20//NONSGML v1.0//EN
CALSCALE:GREGORIAN
METHOD:PUBLISH
X-ORIGINAL-URL:https://vausshof.de
X-WR-CALDESC:Veranstaltungen für Vauß-Hof
REFRESH-INTERVAL;VALUE=DURATION:PT1H
X-Robots-Tag:noindex
X-PUBLISHED-TTL:PT1H
BEGIN:VTIMEZONE
TZID:Europe/Berlin
BEGIN:DAYLIGHT
TZOFFSETFROM:+0100
TZOFFSETTO:+0200
TZNAME:CEST
DTSTART:20250330T010000
END:DAYLIGHT
BEGIN:STANDARD
TZOFFSETFROM:+0200
TZOFFSETTO:+0100
TZNAME:CET
DTSTART:20251026T010000
END:STANDARD
BEGIN:DAYLIGHT
TZOFFSETFROM:+0100
TZOFFSETTO:+0200
TZNAME:CEST
DTSTART:20260329T010000
END:DAYLIGHT
BEGIN:STANDARD
TZOFFSETFROM:+0200
TZOFFSETTO:+0100
TZNAME:CET
DTSTART:20261025T010000
END:STANDARD
BEGIN:DAYLIGHT
TZOFFSETFROM:+0100
TZOFFSETTO:+0200
TZNAME:CEST
DTSTART:20270328T010000
END:DAYLIGHT
BEGIN:STANDARD
TZOFFSETFROM:+0200
TZOFFSETTO:+0100
TZNAME:CET
DTSTART:20271031T010000
END:STANDARD
END:VTIMEZONE
BEGIN:VEVENT
DTSTART;TZID=Europe/Berlin:20260411T110000
DTEND;TZID=Europe/Berlin:20260411T123000
DTSTAMP:20260424T202713
CREATED:20240806T100649Z
LAST-MODIFIED:20260324T154646Z
UID:10000259-1775905200-1775910600@vausshof.de
SUMMARY:Acker-Rundgang bei der Solidarische Landwirtschaft Vauß-Hof eG
DESCRIPTION:Wolltet ihr schon immer mal wissen\, was das ist: SoLawi? Habt Ihr Lust auf frisches Bio-Gemüse? Möchtet Ihr Euch im Umweltschutz engagieren? Kommt vorbei! \nDie Solidarische Landwirtschaft Vauß-Hof (SoLawi) lädt alle Interessierten zur Infoveranstaltung ein. Wir beantworten Euch alle Fragen zum Prinzip der gemeinschaftsgetragenen Landwirtschaft und stellen Euch unsere gemeinnützige Genossenschaft vor. Ihr erhaltet Einblicke in den ökologischen Gemüseanbau\, unsere Organisationsstruktur und erfahrt wie Ihr bei uns mitmachen könnt. Wir freuen uns auf Euch! \nWeitere Infos zur SoLawi: https://www.solawi-vausshof.de/ \nDie Veranstaltung ist kostenlos. Eine Anmeldung ist nicht erforderlich. Die Veranstaltung findet an der SoLawi-Halle in der Scharmeder Straße in 33154 Salzkotten-Scharmede statt. (Die Halle liegt direkt neben Haus Nr. 84.)
URL:https://vausshof.de/event/acker-rundgang-bei-der-solidarische-landwirtschaft-vauss-hof-eg-5/
LOCATION:Solidarische Landwirtschaft Vauß-Hof\, Scharmeder Straße 85\, Scharmede\, 33154\, Deutschland
CATEGORIES:Solidarische Landwirtschaft
ATTACH;FMTTYPE=image/jpeg:https://vausshof.de/wp-content/uploads/2022/11/Panoramabild-3.jpeg
GEO:51.7216890977;8.62809268061
X-APPLE-STRUCTURED-LOCATION;VALUE=URI;X-ADDRESS=Solidarische Landwirtschaft Vauß-Hof Scharmeder Straße 85 Scharmede 33154 Deutschland;X-APPLE-RADIUS=500;X-TITLE=Scharmeder Straße 85:geo:8.62809268061,51.7216890977
END:VEVENT
END:VCALENDAR